BEGIN:VCALENDAR
VERSION:2.0
PRODID:-//eventon.com NONSGML v1.0//EN
BEGIN:VEVENT
UID:69e74bd3a5166
DTSTAMP:20260421T100507
DTSTART:20241013T010000Z
DTEND:20241014T112400Z
LOCATION:
SUMMARY:Ekadasi-Fasten
DESCRIPTION: Fastenbrechen am Montag 14.10 zwischen 08:28 und 11:24
URL:https://www.iskconwiesbaden.de/events/ekadasi-fasten-5/
END:VEVENT
END:VCALENDAR